BEGIN:VCALENDAR
VERSION:2.0
PRODID:-//Gossima - ECPv6.15.20//NONSGML v1.0//EN
CALSCALE:GREGORIAN
METHOD:PUBLISH
X-ORIGINAL-URL:https://gossimasalamanca.com
X-WR-CALDESC:Eventos para Gossima
REFRESH-INTERVAL;VALUE=DURATION:PT1H
X-Robots-Tag:noindex
X-PUBLISHED-TTL:PT1H
BEGIN:VTIMEZONE
TZID:UTC
BEGIN:STANDARD
TZOFFSETFROM:+0000
TZOFFSETTO:+0000
TZNAME:UTC
DTSTART:20230101T000000
END:STANDARD
END:VTIMEZONE
BEGIN:VEVENT
DTSTART;TZID=UTC:20240901T093000
DTEND;TZID=UTC:20240901T143000
DTSTAMP:20260423T234149
CREATED:20240826T091657Z
LAST-MODIFIED:20240826T091657Z
UID:18992-1725183000-1725201000@gossimasalamanca.com
SUMMARY:TORNEO VALENCIA DE DON JUAN
DESCRIPTION:
URL:https://gossimasalamanca.com/evento/torneo-valencia-de-don-juan/
LOCATION:Pabellón Municipal Vicente López\, Avenida de Mayorga nº15\, León\, Valencia de Don Juan\, 24200
CATEGORIES:Torneo Local
ATTACH;FMTTYPE=image/jpeg:https://gossimasalamanca.com/wp-content/uploads/2024/08/Imagen-de-WhatsApp-2024-08-14-a-las-13.12.16_6a88cf56.jpg
END:VEVENT
END:VCALENDAR