BEGIN:VCALENDAR
VERSION:2.0
PRODID:-//Gossima - ECPv6.15.20//NONSGML v1.0//EN
CALSCALE:GREGORIAN
METHOD:PUBLISH
X-ORIGINAL-URL:https://gossimasalamanca.com
X-WR-CALDESC:Eventos para Gossima
REFRESH-INTERVAL;VALUE=DURATION:PT1H
X-Robots-Tag:noindex
X-PUBLISHED-TTL:PT1H
BEGIN:VTIMEZONE
TZID:UTC
BEGIN:STANDARD
TZOFFSETFROM:+0000
TZOFFSETTO:+0000
TZNAME:UTC
DTSTART:20230101T000000
END:STANDARD
END:VTIMEZONE
BEGIN:VEVENT
DTSTART;VALUE=DATE:20240909
DTEND;VALUE=DATE:20240910
DTSTAMP:20260423T234218
CREATED:20240725T141922Z
LAST-MODIFIED:20240725T141922Z
UID:18969-1725840000-1725926399@gossimasalamanca.com
SUMMARY:OPEN CIUDAD DE SALAMANCA
DESCRIPTION:  \n9 DE SEPTIEMBRE TODAS LAS CATEGORÍAS \nORGANIZA EXCELENTÍSIMO AYTO DE SALAMANCA Y CLUB GOSSIMA \n 
URL:https://gossimasalamanca.com/evento/open-ciudad-de-salamanca/
LOCATION:Sala Sumatra\, Calle Sumatra nº20\, Salamanca\, Salamanca\, 37003\, España
CATEGORIES:Encuentro Social
ATTACH;FMTTYPE=image/jpeg:https://gossimasalamanca.com/wp-content/uploads/2024/07/Imagen-de-WhatsApp-2024-07-25-a-las-14.51.54_39cda6dc.jpg
END:VEVENT
END:VCALENDAR