BEGIN:VCALENDAR
VERSION:2.0
PRODID:-//Gossima - ECPv6.15.20//NONSGML v1.0//EN
CALSCALE:GREGORIAN
METHOD:PUBLISH
X-ORIGINAL-URL:https://gossimasalamanca.com
X-WR-CALDESC:Eventos para Gossima
REFRESH-INTERVAL;VALUE=DURATION:PT1H
X-Robots-Tag:noindex
X-PUBLISHED-TTL:PT1H
BEGIN:VTIMEZONE
TZID:UTC
BEGIN:STANDARD
TZOFFSETFROM:+0000
TZOFFSETTO:+0000
TZNAME:UTC
DTSTART:20230101T000000
END:STANDARD
END:VTIMEZONE
BEGIN:VEVENT
DTSTART;VALUE=DATE:20240921
DTEND;VALUE=DATE:20240923
DTSTAMP:20260423T234150
CREATED:20240826T095513Z
LAST-MODIFIED:20240826T095513Z
UID:19009-1726876800-1727049599@gossimasalamanca.com
SUMMARY:TORNEO TEODORO GONZÁLEZ BURGOS
DESCRIPTION:
URL:https://gossimasalamanca.com/evento/torneo-teodoro-gonzalez-burgos/
LOCATION:Burgos La Bureba\, La Bureba s/n Naves de Rico Pico N-7\, Burgos\, Burgos
CATEGORIES:Torneo Local
ATTACH;FMTTYPE=image/jpeg:https://gossimasalamanca.com/wp-content/uploads/2024/08/unnamed_bureba-scaled.jpg
END:VEVENT
END:VCALENDAR