BEGIN:VCALENDAR
VERSION:2.0
PRODID:-//Gossima - ECPv6.15.20//NONSGML v1.0//EN
CALSCALE:GREGORIAN
METHOD:PUBLISH
X-ORIGINAL-URL:https://gossimasalamanca.com
X-WR-CALDESC:Eventos para Gossima
REFRESH-INTERVAL;VALUE=DURATION:PT1H
X-Robots-Tag:noindex
X-PUBLISHED-TTL:PT1H
BEGIN:VTIMEZONE
TZID:UTC
BEGIN:STANDARD
TZOFFSETFROM:+0000
TZOFFSETTO:+0000
TZNAME:UTC
DTSTART:20230101T000000
END:STANDARD
END:VTIMEZONE
BEGIN:VEVENT
DTSTART;TZID=UTC:20241012T170000
DTEND;TZID=UTC:20241012T200000
DTSTAMP:20260423T215023
CREATED:20241006T100019Z
LAST-MODIFIED:20241006T113343Z
UID:19060-1728752400-1728763200@gossimasalamanca.com
SUMMARY:GOSSIMA vs FUENCARRAL TM
DESCRIPTION:2º PARTIDO DE LIGA NACIONAL. \nGossima se enfrenta en casa al equipo madrileño «Fuencarral TM»
URL:https://gossimasalamanca.com/evento/gossima-vs-fuencarral-tm/
LOCATION:Lazarillo de Tormes\, Av. Juan Pablo II\, s/n\, Salamanca\, 37006
CATEGORIES:Partido de Liga
ATTACH;FMTTYPE=image/png:https://gossimasalamanca.com/wp-content/uploads/2024/10/fuencarral_tm.png
END:VEVENT
END:VCALENDAR