BEGIN:VCALENDAR
VERSION:2.0
PRODID:-//Gossima - ECPv6.15.20//NONSGML v1.0//EN
CALSCALE:GREGORIAN
METHOD:PUBLISH
X-ORIGINAL-URL:https://gossimasalamanca.com
X-WR-CALDESC:Eventos para Gossima
REFRESH-INTERVAL;VALUE=DURATION:PT1H
X-Robots-Tag:noindex
X-PUBLISHED-TTL:PT1H
BEGIN:VTIMEZONE
TZID:UTC
BEGIN:STANDARD
TZOFFSETFROM:+0000
TZOFFSETTO:+0000
TZNAME:UTC
DTSTART:20240101T000000
END:STANDARD
END:VTIMEZONE
BEGIN:VEVENT
DTSTART;TZID=UTC:20250308T173000
DTEND;TZID=UTC:20250308T200000
DTSTAMP:20260423T140420
CREATED:20250121T104234Z
LAST-MODIFIED:20250121T104234Z
UID:19187-1741455000-1741464000@gossimasalamanca.com
SUMMARY:Jornada de Liga 2ª división Gossima vs San Sebastián de los Reyes
DESCRIPTION:
URL:https://gossimasalamanca.com/evento/jornada-de-liga-2a-division-gossima-vs-san-sebastian-de-los-reyes/
LOCATION:Lazarillo de Tormes\, Av. Juan Pablo II\, s/n\, Salamanca\, 37006
CATEGORIES:Partido de Liga
ATTACH;FMTTYPE=image/jpeg:https://gossimasalamanca.com/wp-content/uploads/2024/10/sansebastian_tm.jpeg
END:VEVENT
END:VCALENDAR