BEGIN:VCALENDAR
VERSION:2.0
PRODID:-//Gossima - ECPv6.15.20//NONSGML v1.0//EN
CALSCALE:GREGORIAN
METHOD:PUBLISH
X-ORIGINAL-URL:https://gossimasalamanca.com
X-WR-CALDESC:Eventos para Gossima
REFRESH-INTERVAL;VALUE=DURATION:PT1H
X-Robots-Tag:noindex
X-PUBLISHED-TTL:PT1H
BEGIN:VTIMEZONE
TZID:UTC
BEGIN:STANDARD
TZOFFSETFROM:+0000
TZOFFSETTO:+0000
TZNAME:UTC
DTSTART:20240101T000000
END:STANDARD
END:VTIMEZONE
BEGIN:VEVENT
DTSTART;TZID=UTC:20250329T100000
DTEND;TZID=UTC:20250329T123000
DTSTAMP:20260423T140544
CREATED:20250310T120313Z
LAST-MODIFIED:20250310T120313Z
UID:19268-1743242400-1743251400@gossimasalamanca.com
SUMMARY:Doble jornada 2ª División Madrid: FUENCARRAL vs GOSSIMA
DESCRIPTION:
URL:https://gossimasalamanca.com/evento/doble-jornada-2a-division-madrid-fuencarral-vs-gossima/
LOCATION:CEIP FELIPE II\, AVENIDA DE ASTURIAS 70 (ENTRADA POR CALLE/VIA LíMITE)\, MADRID\, 28029
CATEGORIES:Partido de Liga
ATTACH;FMTTYPE=image/png:https://gossimasalamanca.com/wp-content/uploads/2024/10/fuencarral_tm.png
END:VEVENT
BEGIN:VEVENT
DTSTART;TZID=UTC:20250329T170000
DTEND;TZID=UTC:20250329T193000
DTSTAMP:20260423T140544
CREATED:20250310T120652Z
LAST-MODIFIED:20250310T120652Z
UID:19272-1743267600-1743276600@gossimasalamanca.com
SUMMARY:Doble Jornada 2ª División Madrid: ALUCHE vs GOSSIMA
DESCRIPTION:
URL:https://gossimasalamanca.com/evento/doble-jornada-2a-division-madrid-aluche-vs-gossima/
LOCATION:Colegio Vedruna\, C/ DEL ESPINAR \, Nº41 \, ACCESO POR C/ FRANCOLIN\, Madrid\, Aluche\, 28025
CATEGORIES:Partido de Liga
ATTACH;FMTTYPE=image/png:https://gossimasalamanca.com/wp-content/uploads/2024/12/aluche_TM.png
END:VEVENT
END:VCALENDAR