BEGIN:VCALENDAR
VERSION:2.0
PRODID:-//Gossima - ECPv6.15.20//NONSGML v1.0//EN
CALSCALE:GREGORIAN
METHOD:PUBLISH
X-WR-CALNAME:Gossima
X-ORIGINAL-URL:https://gossimasalamanca.com
X-WR-CALDESC:Eventos para Gossima
REFRESH-INTERVAL;VALUE=DURATION:PT1H
X-Robots-Tag:noindex
X-PUBLISHED-TTL:PT1H
BEGIN:VTIMEZONE
TZID:UTC
BEGIN:STANDARD
TZOFFSETFROM:+0000
TZOFFSETTO:+0000
TZNAME:UTC
DTSTART:20240101T000000
END:STANDARD
END:VTIMEZONE
BEGIN:VEVENT
DTSTART;TZID=UTC:20250504T170000
DTEND;TZID=UTC:20250504T193000
DTSTAMP:20260423T103848
CREATED:20250310T122233Z
LAST-MODIFIED:20250310T122233Z
UID:19280-1746378000-1746387000@gossimasalamanca.com
SUMMARY:GOSSIMA vs COLLADO MEDIANO
DESCRIPTION:
URL:https://gossimasalamanca.com/evento/gossima-vs-collado-mediano/
LOCATION:Lazarillo de Tormes\, Av. Juan Pablo II\, s/n\, Salamanca\, 37006
CATEGORIES:Partido de Liga
ATTACH;FMTTYPE=image/png:https://gossimasalamanca.com/wp-content/uploads/2025/03/collado_mediano.png
END:VEVENT
END:VCALENDAR