BEGIN:VCALENDAR
VERSION:2.0
PRODID:-//Gossima - ECPv6.15.20//NONSGML v1.0//EN
CALSCALE:GREGORIAN
METHOD:PUBLISH
X-ORIGINAL-URL:https://gossimasalamanca.com
X-WR-CALDESC:Eventos para Gossima
REFRESH-INTERVAL;VALUE=DURATION:PT1H
X-Robots-Tag:noindex
X-PUBLISHED-TTL:PT1H
BEGIN:VTIMEZONE
TZID:UTC
BEGIN:STANDARD
TZOFFSETFROM:+0000
TZOFFSETTO:+0000
TZNAME:UTC
DTSTART:20240101T000000
END:STANDARD
END:VTIMEZONE
BEGIN:VEVENT
DTSTART;VALUE=DATE:20250531
DTEND;VALUE=DATE:20250602
DTSTAMP:20260423T085736
CREATED:20250122T085459Z
LAST-MODIFIED:20250122T091536Z
UID:19189-1748649600-1748822399@gossimasalamanca.com
SUMMARY:Campeonato Castilla y León 2025 (Alevín y Cadete)
DESCRIPTION:  \nSalamanca acoge el Campeonato de Castilla y León 2025 de Tenis de Mesa. El organizador del evento será el Club  Gossima y el espacio escogido para ello es el Pabellón del Lazarillo de Tormes del Ayuntamiento de Salamanca. \n  \n \n  \nEn la Asamblea General de la FTM CYL del pasado día 31 de AGOSTO/24\, se han aprobado la celebración y fechas de los diferentes Campeonatos Autonómicos de CYL correspondientes a la temporada 2024/25\, y que están previstas sus celebraciones en las fechas que se indican a continuación. \nCAMPEONATO AUTONOMICO BENJAMIN/ INFANTIL/JUVENIL\n17/18 DE MAYO / 2025 – \nCAMPEONATO AUTONOMICO ALEVIN/ CADETE\n31 DE MAYO 1 DE JUNIO / 2025 – \nCAMPEONATO AUTONOMICO ABSOLUTO\n7/ 8 DE JUNIO 2025 – \nCAMPEONATO AUTONOMICO VETERANOS\n14/16 DE JUNIO /2025
URL:https://gossimasalamanca.com/evento/campeonato-castilla-y-leon-2025-alevin-y-cadete/
LOCATION:Lazarillo de Tormes\, Av. Juan Pablo II\, s/n\, Salamanca\, 37006
CATEGORIES:Campeonato CyL
ATTACH;FMTTYPE=image/jpeg:https://gossimasalamanca.com/wp-content/uploads/2025/01/pabellon.jpg
END:VEVENT
END:VCALENDAR