BEGIN:VCALENDAR
VERSION:2.0
PRODID:-//Gossima - ECPv6.15.20//NONSGML v1.0//EN
CALSCALE:GREGORIAN
METHOD:PUBLISH
X-WR-CALNAME:Gossima
X-ORIGINAL-URL:https://gossimasalamanca.com
X-WR-CALDESC:Eventos para Gossima
REFRESH-INTERVAL;VALUE=DURATION:PT1H
X-Robots-Tag:noindex
X-PUBLISHED-TTL:PT1H
BEGIN:VTIMEZONE
TZID:UTC
BEGIN:STANDARD
TZOFFSETFROM:+0000
TZOFFSETTO:+0000
TZNAME:UTC
DTSTART:20240101T000000
END:STANDARD
END:VTIMEZONE
BEGIN:VEVENT
DTSTART;TZID=UTC:20250612T100000
DTEND;TZID=UTC:20250612T200000
DTSTAMP:20260423T085314
CREATED:20250603T091508Z
LAST-MODIFIED:20250603T091508Z
UID:19307-1749722400-1749758400@gossimasalamanca.com
SUMMARY:OPEN SAN JUAN Salamanca
DESCRIPTION:12 DE JUNIO 2025 \nBENJAMÍN\, ALEVÍN de 10.00 a 11.00 HORAS.\nINFANTIL Y JUVENIL de11.00 a 14.00 HORAS\nSENIOR Y AFICIONADOS DE 17.00 a 20.00 \nORGANIZAN:\nAYUNTAMIENTO DE SALAMANCA\nCTM GOSSIMA \n  \n          \n \nINSCRIPCIONES: BENJAMÍN Y ALEVÍN GRATUITO\n5 € INFANTIL Y JUVENIL\n10 € SENIOR Y AFICIONADO\n(ES86 2103 2205 2700 3432 2755)\nHASTA 11 DE JUNIO 2025 10.00 HORAS. \nctmgossima@gmail.com\ndelegacionsalamancatenisdemesa@gmail.com \nTrofeos para los primeros de cada categoría.\nMÁXIMO INSCRITOS 20 JUGADORES POR CATEGORÍA DADAS LAS DIMENSIONES DE LA SALA
URL:https://gossimasalamanca.com/evento/open-san-juan-salamanca/
LOCATION:Sala Sumatra\, Calle Sumatra nº20\, Salamanca\, Salamanca\, 37003\, España
CATEGORIES:Torneo Local
ATTACH;FMTTYPE=image/jpeg:https://gossimasalamanca.com/wp-content/uploads/2025/06/open_sanjuan_2025.jpg
END:VEVENT
END:VCALENDAR