BEGIN:VCALENDAR
VERSION:2.0
PRODID:-//Gossima - ECPv6.15.20//NONSGML v1.0//EN
CALSCALE:GREGORIAN
METHOD:PUBLISH
X-ORIGINAL-URL:https://gossimasalamanca.com
X-WR-CALDESC:Eventos para Gossima
REFRESH-INTERVAL;VALUE=DURATION:PT1H
X-Robots-Tag:noindex
X-PUBLISHED-TTL:PT1H
BEGIN:VTIMEZONE
TZID:UTC
BEGIN:STANDARD
TZOFFSETFROM:+0000
TZOFFSETTO:+0000
TZNAME:UTC
DTSTART:20240101T000000
END:STANDARD
END:VTIMEZONE
BEGIN:VEVENT
DTSTART;VALUE=DATE:20250621
DTEND;VALUE=DATE:20250707
DTSTAMP:20260423T071106
CREATED:20250603T093046Z
LAST-MODIFIED:20250603T093134Z
UID:19309-1750464000-1751846399@gossimasalamanca.com
SUMMARY:CAMPEONATO DE ESPAÑA 2025 ALICANTE
DESCRIPTION:El tenis de mesa volverá un año más a La Nucía. \nEl municipio alicantino acogerá los Campeonatos de España de Todas las Categorías de Tenis de Mesa en 2025. Este destacado evento\, dentro del calendario nacional\, tendrá lugar en la Ciudad Deportiva Camilo Cano\, extendiéndose desde el 21 de junio hasta el 6 de julio\, convirtiéndose en el epicentro nacional del tenis de mesa. \nEste año\, los campeonatos contarán con la participación de casi 2000 deportistas en las diferentes categorías: prebenjamín\, benjamín\, alevín\, infantil\, cadete\, juvenil y sub21\, a las que se suman las categorías para Personas con Discapacidad\, Física e Intelectual\, y los Veteranos. La llegada de estos competidores\, junto a sus entrenadores\, familiares y el personal de la RFETM\, promete ser un importante impulso turístico para este municipio con alrededor de 20.000 habitantes\, que recibirá la visita de alrededor de 5.000 personas. Una cuarta parte de su población que animará el ambiente deportivo y beneficiará notablemente a la economía local. \nSerá la tercera vez que el tenis de mesa visite La Nucía\, y la primera vez con un evento de alto calibre como son los Campeonatos de España de Todas las Categorías. Su gran apuesta por el deporte se ve reflejada con la construcción y ampliación de la Ciudad Deportiva Camilo Cano\, convirtiendo este municipio en un referente deportivo a nivel nacional. \nMiguel Ángel Machado\, presidente de la RFETM\, ha expresado que «estamos muy contentos de traer a La Nucía este gran evento\, porque hemos ido viendo crecer con los dos Spain Masters que hemos realizado esta Ciudad Deportiva Camilo Cano y estamos seguros de que todos podrán disfrutar de las magníficas instalaciones”. Con estas palabras\, Machado reafirma el vínculo especial entre la localidad alicantina y el tenis de mesa nacional\, anticipando un evento destacado tanto para la ciudad como para el deporte. \nDistribución de fechas Campeonatos 2024/2025 \n 
URL:https://gossimasalamanca.com/evento/19309/
LOCATION:Ciudad Deportiva Camilo Cano La Nucía\, Partida Muixara\, s/n\, 03530 La Nucia\, Alicante\, Alicante\, Alicante
CATEGORIES:Campeonato Nacional/Estatal
ATTACH;FMTTYPE=image/jpeg:https://gossimasalamanca.com/wp-content/uploads/2025/06/campeonato_espana_2025_Alicante.jpg
END:VEVENT
END:VCALENDAR