BEGIN:VCALENDAR
VERSION:2.0
PRODID:-//Gossima - ECPv6.15.20//NONSGML v1.0//EN
CALSCALE:GREGORIAN
METHOD:PUBLISH
X-ORIGINAL-URL:https://gossimasalamanca.com
X-WR-CALDESC:Eventos para Gossima
REFRESH-INTERVAL;VALUE=DURATION:PT1H
X-Robots-Tag:noindex
X-PUBLISHED-TTL:PT1H
BEGIN:VTIMEZONE
TZID:UTC
BEGIN:STANDARD
TZOFFSETFROM:+0000
TZOFFSETTO:+0000
TZNAME:UTC
DTSTART:20250101T000000
END:STANDARD
END:VTIMEZONE
BEGIN:VEVENT
DTSTART;TZID=UTC:20260228T170000
DTEND;TZID=UTC:20260228T200000
DTSTAMP:20260422T171925
CREATED:20260119T093753Z
LAST-MODIFIED:20260223T123213Z
UID:19476-1772298000-1772308800@gossimasalamanca.com
SUMMARY:Gossima vs Caja Rural Zamora
DESCRIPTION:  \nver ranking actualizado aquí
URL:https://gossimasalamanca.com/evento/gossima-vs-caja-rural-zamora/
LOCATION:CIP Miguel Hernández Santa Marta de Tormes\, C. Unicef\, 0\,\, Santa Marta de Tormes\, Salamanca\, 37900
CATEGORIES:Partido de Liga
ATTACH;FMTTYPE=image/png:https://gossimasalamanca.com/wp-content/uploads/2025/09/caja-rural-zamora.png
END:VEVENT
END:VCALENDAR