BEGIN:VCALENDAR
VERSION:2.0
PRODID:-//Gossima - ECPv6.15.20//NONSGML v1.0//EN
CALSCALE:GREGORIAN
METHOD:PUBLISH
X-ORIGINAL-URL:https://gossimasalamanca.com
X-WR-CALDESC:Eventos para Gossima
REFRESH-INTERVAL;VALUE=DURATION:PT1H
X-Robots-Tag:noindex
X-PUBLISHED-TTL:PT1H
BEGIN:VTIMEZONE
TZID:UTC
BEGIN:STANDARD
TZOFFSETFROM:+0000
TZOFFSETTO:+0000
TZNAME:UTC
DTSTART:20250101T000000
END:STANDARD
END:VTIMEZONE
BEGIN:VEVENT
DTSTART;TZID=UTC:20260313T220000
DTEND;TZID=UTC:20260313T233000
DTSTAMP:20260422T172018
CREATED:20260311T114628Z
LAST-MODIFIED:20260311T114628Z
UID:19486-1773439200-1773444600@gossimasalamanca.com
SUMMARY:NOCHE DE TENIS DE MESA
DESCRIPTION:Velocidad\, concentración y mucha emoción en cada punto. Un campeonato donde la técnica y la pasión se enfrentan en la mesa\, creando momentos llenos de adrenalina y buen juego. ¡Que empiece la competición y gane el mejor! En colaboración con la Delegación Salmantina de Tenis de mesa y el Club de tenis mesa Gossima. \n  \n \n  \n  \nREALIZA TU INSCRIPCIÓN AQUÍ \n  \n 
URL:https://gossimasalamanca.com/evento/noche-de-tenis-de-mesa/
LOCATION:Sala Sumatra\, Calle Sumatra nº20\, Salamanca\, Salamanca\, 37003\, España
CATEGORIES:Encuentro Social
ATTACH;FMTTYPE=image/svg+xml:https://gossimasalamanca.com/wp-content/uploads/2026/03/sat5svg2025.svg
END:VEVENT
END:VCALENDAR