BEGIN:VCALENDAR
VERSION:2.0
PRODID:-//Gossima - ECPv6.15.20//NONSGML v1.0//EN
CALSCALE:GREGORIAN
METHOD:PUBLISH
X-WR-CALNAME:Gossima
X-ORIGINAL-URL:https://gossimasalamanca.com
X-WR-CALDESC:Eventos para Gossima
REFRESH-INTERVAL;VALUE=DURATION:PT1H
X-Robots-Tag:noindex
X-PUBLISHED-TTL:PT1H
BEGIN:VTIMEZONE
TZID:UTC
BEGIN:STANDARD
TZOFFSETFROM:+0000
TZOFFSETTO:+0000
TZNAME:UTC
DTSTART:20230101T000000
END:STANDARD
END:VTIMEZONE
BEGIN:VEVENT
DTSTART;TZID=UTC:20240412T173000
DTEND;TZID=UTC:20240412T203000
DTSTAMP:20260424T141532
CREATED:20240403T181333Z
LAST-MODIFIED:20240403T182729Z
UID:18871-1712943000-1712953800@gossimasalamanca.com
SUMMARY:Torneo de Primavera Gossima
DESCRIPTION:Dentro de las actividades correspondientes al Programa de Competición de los Juegos Escolares 2023/2024\, se convoca el tradicional Torneo de Primavera\, con el que se finaliza la competición de Tenis de Mesa. \nEl Torneo se celebrará el viernes 12 de abril en horario de tarde (17:30-20:30 horas)\, en la Sala Polivalente de la Calle Sumatra. \n1. PARTICIPANTES \nEn esta actividad podrán participar todos los escolares que lo deseen y que cumplan con las condiciones básicas de participación en Juegos Escolares\, marcadas en el artículo 5 del Programa para este Curso 2023/2024 y que estén encuadrados en las siguientes categorías:\nBenjamín 2015-2014 \nAlevín 2013-2012 \nInfantil 20011-2010 \nCadete 2009-2008 \nJuvenil 2004-2005-2006-2007 \n2. INSCRIPCIONES \nLos escolares que estén interesados en participar en el Campeonato deberán encuadrarse en alguna de las categorías convocadas y deberán realizar su inscripción\, a través del centro escolar en el que estén matriculados. \n  \nmás información
URL:https://gossimasalamanca.com/evento/torneo-de-primavera-gossima/
LOCATION:Sala Sumatra\, Calle Sumatra nº20\, Salamanca\, Salamanca\, 37003\, España
CATEGORIES:Juegos Escolares
ATTACH;FMTTYPE=image/webp:https://gossimasalamanca.com/wp-content/uploads/2023/11/gossima-sumatra-ppal.webp
END:VEVENT
END:VCALENDAR