BEGIN:VCALENDAR
VERSION:2.0
PRODID:-//Gossima - ECPv6.15.20//NONSGML v1.0//EN
CALSCALE:GREGORIAN
METHOD:PUBLISH
X-ORIGINAL-URL:https://gossimasalamanca.com
X-WR-CALDESC:Eventos para Gossima
REFRESH-INTERVAL;VALUE=DURATION:PT1H
X-Robots-Tag:noindex
X-PUBLISHED-TTL:PT1H
BEGIN:VTIMEZONE
TZID:UTC
BEGIN:STANDARD
TZOFFSETFROM:+0000
TZOFFSETTO:+0000
TZNAME:UTC
DTSTART:20230101T000000
END:STANDARD
END:VTIMEZONE
BEGIN:VEVENT
DTSTART;TZID=UTC:20240119T173000
DTEND;TZID=UTC:20240119T190000
DTSTAMP:20260424T212655
CREATED:20231215T103010Z
LAST-MODIFIED:20240116T104216Z
UID:18400-1705685400-1705690800@gossimasalamanca.com
SUMMARY:Juegos Escolares
DESCRIPTION:  \nEl Club Gossima organizará el próximo 19 de Enero sus habituales Juegos Escolares donde están invitados todos los niños y niñas de Salamanca en edad escolar. \nEn este Torneo por tanto\, se intenta reunir a todos los colegios y centros escolares de la ciudad para que sus alumnos y alumnas disfruten de este bonito deporte en un ambiente sano y amigable. \nLa hora de dicho torneo será de 17:30 a 19:00 en la Sala Polivalente Sumatra
URL:https://gossimasalamanca.com/evento/juegos-escolares/
LOCATION:Sala Sumatra\, Calle Sumatra nº20\, Salamanca\, Salamanca\, 37003\, España
CATEGORIES:Juegos Escolares
ATTACH;FMTTYPE=image/webp:https://gossimasalamanca.com/wp-content/uploads/2023/11/gossima-sumatra-ppal.webp
END:VEVENT
END:VCALENDAR