BEGIN:VCALENDAR
VERSION:2.0
PRODID:-//Gossima - ECPv6.15.20//NONSGML v1.0//EN
CALSCALE:GREGORIAN
METHOD:PUBLISH
X-WR-CALNAME:Gossima
X-ORIGINAL-URL:https://gossimasalamanca.com
X-WR-CALDESC:Eventos para Gossima
REFRESH-INTERVAL;VALUE=DURATION:PT1H
X-Robots-Tag:noindex
X-PUBLISHED-TTL:PT1H
BEGIN:VTIMEZONE
TZID:UTC
BEGIN:STANDARD
TZOFFSETFROM:+0000
TZOFFSETTO:+0000
TZNAME:UTC
DTSTART:20250101T000000
END:STANDARD
END:VTIMEZONE
BEGIN:VEVENT
DTSTART;TZID=UTC:20260313T220000
DTEND;TZID=UTC:20260313T233000
DTSTAMP:20260422T223130
CREATED:20260311T114628Z
LAST-MODIFIED:20260311T114628Z
UID:19486-1773439200-1773444600@gossimasalamanca.com
SUMMARY:NOCHE DE TENIS DE MESA
DESCRIPTION:Velocidad\, concentración y mucha emoción en cada punto. Un campeonato donde la técnica y la pasión se enfrentan en la mesa\, creando momentos llenos de adrenalina y buen juego. ¡Que empiece la competición y gane el mejor! En colaboración con la Delegación Salmantina de Tenis de mesa y el Club de tenis mesa Gossima. \n  \n \n  \n  \nREALIZA TU INSCRIPCIÓN AQUÍ \n  \n 
URL:https://gossimasalamanca.com/evento/noche-de-tenis-de-mesa/
LOCATION:Sala Sumatra\, Calle Sumatra nº20\, Salamanca\, Salamanca\, 37003\, España
CATEGORIES:Encuentro Social
ATTACH;FMTTYPE=image/svg+xml:https://gossimasalamanca.com/wp-content/uploads/2026/03/sat5svg2025.svg
END:VEVENT
BEGIN:VEVENT
DTSTART;TZID=UTC:20260321T170000
DTEND;TZID=UTC:20260321T200000
DTSTAMP:20260422T223130
CREATED:20260223T122358Z
LAST-MODIFIED:20260223T122358Z
UID:19480-1774112400-1774123200@gossimasalamanca.com
SUMMARY:GOSSIMA vs CLUB DEPORTIVO PISUERGA
DESCRIPTION:
URL:https://gossimasalamanca.com/evento/gossima-vs-club-deportivo-pisuerga/
LOCATION:CIP Miguel Hernández Santa Marta de Tormes\, C. Unicef\, 0\,\, Santa Marta de Tormes\, Salamanca\, 37900
CATEGORIES:Partido de Liga
ATTACH;FMTTYPE=image/jpeg:https://gossimasalamanca.com/wp-content/uploads/2025/09/CD_PISUERGA.jpg
END:VEVENT
BEGIN:VEVENT
DTSTART;TZID=UTC:20260411T103000
DTEND;TZID=UTC:20260411T200000
DTSTAMP:20260422T223130
CREATED:20260311T122400Z
LAST-MODIFIED:20260311T122400Z
UID:19491-1775903400-1775937600@gossimasalamanca.com
SUMMARY:LIGA NACIONAL DOBLE JORNADA AVILÉS-OVIEDO vs GOSSIMA
DESCRIPTION:
URL:https://gossimasalamanca.com/evento/liga-nacional-doble-jornada-aviles-oviedo-vs-gossima/
LOCATION:Oviedo POLIDEPORTIVON DE VENTANIELLES «HERMANOS CECCHINI»\, PLAZA DEL LAGO ENOL S/N\, Oviedo\, Asturias\, 33010
CATEGORIES:Partido de Liga
ATTACH;FMTTYPE=image/jpeg:https://gossimasalamanca.com/wp-content/uploads/2025/09/TM_AVILES.jpg
ORGANIZER;CN="OVIEDO-MADRID TENIS DE MESA":MAILTO:presidente@oviedotenismesa.com
END:VEVENT
BEGIN:VEVENT
DTSTART;TZID=UTC:20260412T100000
DTEND;TZID=UTC:20260412T123000
DTSTAMP:20260422T223130
CREATED:20260311T123245Z
LAST-MODIFIED:20260311T123549Z
UID:19495-1775988000-1775997000@gossimasalamanca.com
SUMMARY:LIGA NACIONAL GIJÓN vs GOSSIMA
DESCRIPTION:  \nRanking actualizado AQUÍ \n  \n \n 
URL:https://gossimasalamanca.com/evento/liga-nacional-gijon-vs-gossima/
LOCATION:Gijón Complejo Deportivo La Calzada\, C/ Simón Bolivar s/n\, Gijón\, Asturias\, 33213
CATEGORIES:Partido de Liga
ATTACH;FMTTYPE=image/png:https://gossimasalamanca.com/wp-content/uploads/2025/09/gijon_atalaya.png
ORGANIZER;CN="Gij%C3%B3n Tenis de Mesa La Atalaya":MAILTO:gijontenisdemesa@gmail.com
END:VEVENT
BEGIN:VEVENT
DTSTART;TZID=UTC:20260418T170000
DTEND;TZID=UTC:20260418T193000
DTSTAMP:20260422T223130
CREATED:20260311T124001Z
LAST-MODIFIED:20260311T124028Z
UID:19500-1776531600-1776540600@gossimasalamanca.com
SUMMARY:LIGA NACIONAL GOSSIMA vs AMADIS TORRELAVEGA
DESCRIPTION:
URL:https://gossimasalamanca.com/evento/liga-nacional-gossima-vs-amadis-torrelavega/
LOCATION:Santa Marta de Tormes
CATEGORIES:Partido de Liga
ATTACH;FMTTYPE=image/jpeg:https://gossimasalamanca.com/wp-content/uploads/2025/09/AMADIS_TORRELAVEGA.jpeg
END:VEVENT
BEGIN:VEVENT
DTSTART;TZID=UTC:20260426T110000
DTEND;TZID=UTC:20260426T133000
DTSTAMP:20260422T223130
CREATED:20260311T124340Z
LAST-MODIFIED:20260311T124340Z
UID:19502-1777201200-1777210200@gossimasalamanca.com
SUMMARY:LIGA NACIONAL GOSSIMA vs MANUFACTURAS DEPORTIVAS "A" SANTANDER
DESCRIPTION:
URL:https://gossimasalamanca.com/evento/liga-nacional-gossima-vs-manufacturas-deportivas-a-santander/
LOCATION:Santa Marta de Tormes
CATEGORIES:Partido de Liga
ATTACH;FMTTYPE=image/jpeg:https://gossimasalamanca.com/wp-content/uploads/2025/11/manufacturas_deportivas.jpg
END:VEVENT
END:VCALENDAR