BEGIN:VCALENDAR
VERSION:2.0
PRODID:-//Gossima - ECPv6.15.20//NONSGML v1.0//EN
CALSCALE:GREGORIAN
METHOD:PUBLISH
X-ORIGINAL-URL:https://gossimasalamanca.com
X-WR-CALDESC:Eventos para Gossima
REFRESH-INTERVAL;VALUE=DURATION:PT1H
X-Robots-Tag:noindex
X-PUBLISHED-TTL:PT1H
BEGIN:VTIMEZONE
TZID:UTC
BEGIN:STANDARD
TZOFFSETFROM:+0000
TZOFFSETTO:+0000
TZNAME:UTC
DTSTART:20240101T000000
END:STANDARD
END:VTIMEZONE
BEGIN:VEVENT
DTSTART;TZID=UTC:20250118T170000
DTEND;TZID=UTC:20250118T200000
DTSTAMP:20260423T153755
CREATED:20241219T113128Z
LAST-MODIFIED:20241219T113242Z
UID:19171-1737219600-1737230400@gossimasalamanca.com
SUMMARY:PARTIDO DE LIGA ALCORCÓN vs GOSSIMA
DESCRIPTION:Partido de Liga Nacional 2ª división que enfrentará al Alcorcón TM contra Gossima
URL:https://gossimasalamanca.com/evento/partido-de-liga-alcorcon-vs-gossima/
LOCATION:Centro deportivo Varela Alcorcón\, Av. Portugal\, 14\, 28921 Alcorcón\, Madrid\, Madrid\, Alcorcón\, 28921
CATEGORIES:Partido de Liga
ATTACH;FMTTYPE=image/jpeg:https://gossimasalamanca.com/wp-content/uploads/2024/10/alcorcon_TM_2.jpg
END:VEVENT
BEGIN:VEVENT
DTSTART;TZID=UTC:20250119T103000
DTEND;TZID=UTC:20250119T130000
DTSTAMP:20260423T153755
CREATED:20241219T113934Z
LAST-MODIFIED:20241219T113943Z
UID:19173-1737282600-1737291600@gossimasalamanca.com
SUMMARY:PARTIDO DE LIGA DAGANZO TM vs GOSSIMA
DESCRIPTION:Partido de liga 2ª división Nacional\, que enfrentará al Daganzo TM contra el Gossima
URL:https://gossimasalamanca.com/evento/partido-de-liga-daganzo-tm-vs-gossima/
LOCATION:POLIDEPORTIVO MUNICIPAL DE DAGANZO DE ARRIBA\, calle Don Quijote de la mancha\, 1\, Daganzo de Arriba\, Madrid\, 28814
CATEGORIES:Partido de Liga
ATTACH;FMTTYPE=image/jpeg:https://gossimasalamanca.com/wp-content/uploads/2024/10/Tenis-de-mesa_daganzo.jpg
END:VEVENT
BEGIN:VEVENT
DTSTART;TZID=UTC:20250126T100000
DTEND;TZID=UTC:20250126T140000
DTSTAMP:20260423T153755
CREATED:20250121T103407Z
LAST-MODIFIED:20250123T095727Z
UID:19181-1737885600-1737900000@gossimasalamanca.com
SUMMARY:2ª Concentración Infantil-Cadete Burgos 2025
DESCRIPTION: LIGA REGIONAL INFANTIL/CADETE MASCULINO y FEMENINO \nEl próximo día 26 de ENERO/25\, se realizara la 2ª Concentración de la Liga Regional Infantil / Cadete masculino y femenino de la presente temporada.\nSE REMITE LA RELACION DE INSCRITOS PARA ESTA COMPETICION\, ROGANDO QUE SI ALGUN JUGADOR/A\, NO PUEDE ASISTIR LO COMUNIQUE ANTES DEL PROXIMO DIAS 20 DE ENERO\, A LA SECRETARIA DE ESTA FTM CyL.\nInformando que toda \nLocal de Juego: SALA DE TENIS DE MESA DE BURGOS La Bureba s/n – Naves de Rico Pico N-7 BURGOS ORGANIZA: FTM CyL – Delegación Provincial de Burgos Asimismo\, todos los jugadores y Técnicos deben estar inscritos en el programa DEBA de la CyL\, cuya página ya se encuentra activa. NOTA IMPORTANTE: En todas las competiciones los mismos jugadores se harán cargo de los arbitrajes. En función de las inscripciones se determinará\, la posibilidad para que la competición se realice en la misma jornada. HORA DE PRESENTACION DE JUGADORES 9:30 HORAS Horario de comienzo 10:00 horas Horario de finalización 14:00 horas
URL:https://gossimasalamanca.com/evento/2a-concentracion-burgos-2025/
LOCATION:Burgos La Bureba\, La Bureba s/n Naves de Rico Pico N-7\, Burgos\, Burgos
CATEGORIES:Liga Regional
ATTACH;FMTTYPE=image/jpeg:https://gossimasalamanca.com/wp-content/uploads/2024/12/preestatal_24_25-scaled.jpg
ORGANIZER;CN="Federaci%C3%B3n Tenis de Mesa CyL":MAILTO:tenismesa@tenismesacyl.com
END:VEVENT
END:VCALENDAR