BEGIN:VCALENDAR
VERSION:2.0
PRODID:-//Gossima - ECPv6.15.20//NONSGML v1.0//EN
CALSCALE:GREGORIAN
METHOD:PUBLISH
X-WR-CALNAME:Gossima
X-ORIGINAL-URL:https://gossimasalamanca.com
X-WR-CALDESC:Eventos para Gossima
REFRESH-INTERVAL;VALUE=DURATION:PT1H
X-Robots-Tag:noindex
X-PUBLISHED-TTL:PT1H
BEGIN:VTIMEZONE
TZID:UTC
BEGIN:STANDARD
TZOFFSETFROM:+0000
TZOFFSETTO:+0000
TZNAME:UTC
DTSTART:20240101T000000
END:STANDARD
END:VTIMEZONE
BEGIN:VEVENT
DTSTART;TZID=UTC:20250208T170000
DTEND;TZID=UTC:20250208T200000
DTSTAMP:20260423T140224
CREATED:20241219T114420Z
LAST-MODIFIED:20241219T114427Z
UID:19177-1739034000-1739044800@gossimasalamanca.com
SUMMARY:PARTIDO DE LIGA GOSSIMA vs COSLADA
DESCRIPTION:Partido de liga nacional 2ª división que enfrentará a Gossima contra Coslada TM
URL:https://gossimasalamanca.com/evento/partido-de-liga-gossima-vs-coslada/
LOCATION:Lazarillo de Tormes\, Av. Juan Pablo II\, s/n\, Salamanca\, 37006
CATEGORIES:Partido de Liga
ATTACH;FMTTYPE=image/png:https://gossimasalamanca.com/wp-content/uploads/2024/10/cropped-portada-WEB_coslada.png
END:VEVENT
BEGIN:VEVENT
DTSTART;VALUE=DATE:20250221
DTEND;VALUE=DATE:20250303
DTSTAMP:20260423T140224
CREATED:20250203T115816Z
LAST-MODIFIED:20250203T120855Z
UID:19234-1740096000-1740959999@gossimasalamanca.com
SUMMARY:Campeonato Estatal Tarragona 2025
DESCRIPTION:  \nTarragona volverá a convertirse en el centro neurálgico del tenis de mesa nacional del 21 febrero al 2 marzo\, al acoger por segunda vez consecutiva el Campeonato de España Absoluto y las Copas SSMM Los Reyes de tenis de mesa\, junto con el Torneo Estatal. La Costa Daurada acogerá este evento\, que tendrá lugar en el Palau d’Esports Catalunya y reunirá a más de 1000 palistas en una fiesta del tenis de mesa nacional. El gran evento deportivo está organizado por la Real Federación Española de Tenis Mesa con la colaboración del Ayuntamiento y la Diputación de Tarragona. \n 
URL:https://gossimasalamanca.com/evento/campeonato-estatal-tarragona-2025/
LOCATION:Palau d’Esports Catalunya\, Camí XXV\, 2\, Taragona-Costa Daurada\, Tarragona\, 43006\, España
CATEGORIES:Campeonato Nacional/Estatal
ATTACH;FMTTYPE=image/jpeg:https://gossimasalamanca.com/wp-content/uploads/2025/02/tarragona_25.jpg
END:VEVENT
BEGIN:VEVENT
DTSTART;TZID=UTC:20250221T200000
DTEND;TZID=UTC:20250221T213000
DTSTAMP:20260423T140224
CREATED:20250124T085554Z
LAST-MODIFIED:20250124T085554Z
UID:19217-1740168000-1740173400@gossimasalamanca.com
SUMMARY:Master Class y Minitorneo ALCER 2025
DESCRIPTION:  \nEl 21 de Febrero a las 20:00 de la tarde tendrá lugar el Minitorneo ALCER con Master Class incluída en la Sala Sumatra del Club Gossima Salamanca. \nLas inscripciones se pueden realizar pinchando en el siguiente enlace: inscripciones minitorneo \n  \nInscripciones gratuitas para socios y resto 3€.
URL:https://gossimasalamanca.com/evento/master-class-y-minitorneo-alcer-2025/
LOCATION:Sala Sumatra\, Calle Sumatra nº20\, Salamanca\, Salamanca\, 37003\, España
CATEGORIES:Encuentro Social
ATTACH;FMTTYPE=image/jpeg:https://gossimasalamanca.com/wp-content/uploads/2025/01/alcer.jpg
END:VEVENT
END:VCALENDAR