BEGIN:VCALENDAR
VERSION:2.0
PRODID:-//Gossima - ECPv6.15.20//NONSGML v1.0//EN
CALSCALE:GREGORIAN
METHOD:PUBLISH
X-ORIGINAL-URL:https://gossimasalamanca.com
X-WR-CALDESC:Eventos para Gossima
REFRESH-INTERVAL;VALUE=DURATION:PT1H
X-Robots-Tag:noindex
X-PUBLISHED-TTL:PT1H
BEGIN:VTIMEZONE
TZID:UTC
BEGIN:STANDARD
TZOFFSETFROM:+0000
TZOFFSETTO:+0000
TZNAME:UTC
DTSTART:20240101T000000
END:STANDARD
END:VTIMEZONE
BEGIN:VEVENT
DTSTART;TZID=UTC:20250405T170000
DTEND;TZID=UTC:20250405T193000
DTSTAMP:20260423T104057
CREATED:20250310T121622Z
LAST-MODIFIED:20250310T121622Z
UID:19276-1743872400-1743881400@gossimasalamanca.com
SUMMARY:GOSSIMA vs VILLA DE VALDEMORO 2ª División Nacional
DESCRIPTION:
URL:https://gossimasalamanca.com/evento/gossima-vs-villa-de-valdemoro-2a-division-nacional/
LOCATION:Lazarillo de Tormes\, Av. Juan Pablo II\, s/n\, Salamanca\, 37006
CATEGORIES:Partido de Liga
END:VEVENT
BEGIN:VEVENT
DTSTART;VALUE=DATE:20250417
DTEND;VALUE=DATE:20250421
DTSTAMP:20260423T104057
CREATED:20250310T123551Z
LAST-MODIFIED:20250310T123551Z
UID:19283-1744848000-1745193599@gossimasalamanca.com
SUMMARY:CAMPEONATO DE ESPAÑA DE SELECCIONES AUTONOMICAS - INFANTIL Y CADETE
DESCRIPTION:  \nLa prueba\, en edad infantil y cadete\, se celebrará en la localidad madrileña de Alcobendas\nLa dirección técnica de la FTMCYL ha hecho pública la lista de seleccionados para los Campeonatos de España Infantil y cadete. \nLa competición se celebrará en la localidad madrileña de Alcobendas del 16 al 20 de abril de 2025. \n 
URL:https://gossimasalamanca.com/evento/campeonato-de-espana-de-selecciones-autonomicas-infantil-y-cadete-2/
CATEGORIES:Campeonato Nacional/Estatal
ATTACH;FMTTYPE=image/jpeg:https://gossimasalamanca.com/wp-content/uploads/2025/03/img-20250308-wa0012_11_1100x632-2.jpeg
END:VEVENT
BEGIN:VEVENT
DTSTART;TZID=UTC:20250426T170000
DTEND;TZID=UTC:20250426T193000
DTSTAMP:20260423T104057
CREATED:20250310T121906Z
LAST-MODIFIED:20250310T121906Z
UID:19278-1745686800-1745695800@gossimasalamanca.com
SUMMARY:GOSSIMA vs MADRID CTM 2ª División Nacional
DESCRIPTION:
URL:https://gossimasalamanca.com/evento/gossima-vs-madrid-ctm-2a-division-nacional/
LOCATION:Lazarillo de Tormes\, Av. Juan Pablo II\, s/n\, Salamanca\, 37006
CATEGORIES:Partido de Liga
ATTACH;FMTTYPE=image/png:https://gossimasalamanca.com/wp-content/uploads/2024/10/Logo-Madrid-CTM-icono-blanco-1.png
END:VEVENT
END:VCALENDAR