BEGIN:VCALENDAR
VERSION:2.0
PRODID:-//Gossima - ECPv6.15.20//NONSGML v1.0//EN
CALSCALE:GREGORIAN
METHOD:PUBLISH
X-ORIGINAL-URL:https://gossimasalamanca.com
X-WR-CALDESC:Eventos para Gossima
REFRESH-INTERVAL;VALUE=DURATION:PT1H
X-Robots-Tag:noindex
X-PUBLISHED-TTL:PT1H
BEGIN:VTIMEZONE
TZID:UTC
BEGIN:STANDARD
TZOFFSETFROM:+0000
TZOFFSETTO:+0000
TZNAME:UTC
DTSTART:20240101T000000
END:STANDARD
END:VTIMEZONE
BEGIN:VEVENT
DTSTART;TZID=UTC:20251101T170000
DTEND;TZID=UTC:20251101T200000
DTSTAMP:20260422T222818
CREATED:20251026T122107Z
LAST-MODIFIED:20251026T122107Z
UID:19388-1762016400-1762027200@gossimasalamanca.com
SUMMARY:Liga 2ª nacional GOSSIMA-OVIEDO TENIS DE MESA
DESCRIPTION: 
URL:https://gossimasalamanca.com/evento/liga-2a-nacional-gossima-oviedo-tenis-de-mesa/
LOCATION:CIP Miguel Hernández Santa Marta de Tormes\, C. Unicef\, 0\,\, Santa Marta de Tormes\, Salamanca\, 37900
CATEGORIES:Partido de Liga
ATTACH;FMTTYPE=image/webp:https://gossimasalamanca.com/wp-content/uploads/2025/09/ecosoft-club-oviedo-tm.webp
END:VEVENT
BEGIN:VEVENT
DTSTART;TZID=UTC:20251107T173000
DTEND;TZID=UTC:20251107T200000
DTSTAMP:20260422T222818
CREATED:20250930T094721Z
LAST-MODIFIED:20251028T115829Z
UID:19377-1762536600-1762545600@gossimasalamanca.com
SUMMARY:Open de Otoño Escolar
DESCRIPTION:  \nUna nueva edición del Open de Otoño Escolar al que podrán apuntarse los niños nacidos hasta el año 2006. \nApúntate! \n  \nBases del Torneo Open de Otoño 2025 \n 
URL:https://gossimasalamanca.com/evento/open-de-otono-escolar/
LOCATION:Sala Sumatra\, Calle Sumatra nº20\, Salamanca\, Salamanca\, 37003\, España
CATEGORIES:Juegos Escolares
ATTACH;FMTTYPE=image/jpeg:https://gossimasalamanca.com/wp-content/uploads/2025/02/Imagen-de-WhatsApp-2025-01-31-a-las-18.59.47_e49d0850.jpg
END:VEVENT
BEGIN:VEVENT
DTSTART;TZID=UTC:20251116T110000
DTEND;TZID=UTC:20251116T130000
DTSTAMP:20260422T222818
CREATED:20250926T104803Z
LAST-MODIFIED:20250926T104803Z
UID:19344-1763290800-1763298000@gossimasalamanca.com
SUMMARY:LIGA 2ª NACIONAL GOSSIMA - LA ATALAYA GIJÓN TM
DESCRIPTION:Encuentro de segunda división Nacional que se jugará en casa del club Gossima/Santa Marta. Suerte con el encuentro y a por los puntos! \n  \n 
URL:https://gossimasalamanca.com/evento/liga-2a-nacional-gossima-la-atalaya-gijon-tm/
LOCATION:CIP Miguel Hernández Santa Marta de Tormes\, C. Unicef\, 0\,\, Santa Marta de Tormes\, Salamanca\, 37900
CATEGORIES:Partido de Liga
ATTACH;FMTTYPE=image/png:https://gossimasalamanca.com/wp-content/uploads/2025/09/gijon_atalaya.png
END:VEVENT
BEGIN:VEVENT
DTSTART;TZID=UTC:20251122T170000
DTEND;TZID=UTC:20251122T200000
DTSTAMP:20260422T222818
CREATED:20250926T111058Z
LAST-MODIFIED:20250926T111058Z
UID:19353-1763830800-1763841600@gossimasalamanca.com
SUMMARY:LIGA 2ª NACIONAL CAJA RURAL ZAMORA - GOSSIMA
DESCRIPTION:Partido de Liga donde Gossima se desplazará a Zamora. \n  \n 
URL:https://gossimasalamanca.com/evento/liga-2a-nacional-caja-rural-zamora-gossima/
LOCATION:PABELLON SOCIAL «LA JOSA»\, CALLE CUESTA DEL BOLON S/N\, Zamora\, Zamora\, 49023
CATEGORIES:Partido de Liga
ATTACH;FMTTYPE=image/png:https://gossimasalamanca.com/wp-content/uploads/2025/09/caja-rural-zamora.png
END:VEVENT
BEGIN:VEVENT
DTSTART;TZID=UTC:20251123T100000
DTEND;TZID=UTC:20251123T140000
DTSTAMP:20260422T222818
CREATED:20251028T121431Z
LAST-MODIFIED:20251028T121431Z
UID:19411-1763892000-1763906400@gossimasalamanca.com
SUMMARY:1ª Concentración de la Liga Regional Infantil / Cadete masculino 25/26
DESCRIPTION:  \nCategorías convocadas de los jugadores participantes: \nCategoría Juvenil: Nacidos en los años 2006 al 2009\nCategoría Cadete: deberán ser nacidos en los años 2010 y 2011\, asimismo esta Federación de Tenis\nde Mesa de C y L permitirá participar jugadores/as nacidos en el año 2012 y 2013\nCategoría INFANTIL: deberán ser nacidos en los años 2012 y 2013\, asimismo esta Federación de\nTenis de Mesa de C y L permitirá participar jugadores/as nacidos en el año 2014 y 2015.\nCategoría ALEVIN: Nacidos en los años 2014 y 2015\nCategoría BENJAMIN: Nacidos en los años 2016 y 2017\nCategoría PREBENJAMIN: Nacidos en los años 2018 al 2022 \n  \nmás información
URL:https://gossimasalamanca.com/evento/1a-concentracion-de-la-liga-regional-infantil-cadete-masculino-25-26/
LOCATION:Burgos La Bureba\, La Bureba s/n Naves de Rico Pico N-7\, Burgos\, Burgos
CATEGORIES:Liga Regional
ATTACH;FMTTYPE=image/jpeg:https://gossimasalamanca.com/wp-content/uploads/2024/05/2b4f7743-ad24-423c-ba6b-8197fa546d7b.jpg
ORGANIZER;CN="Federaci%C3%B3n Tenis de Mesa CyL":MAILTO:tenismesa@tenismesacyl.com
END:VEVENT
END:VCALENDAR